




BEGIN:VCALENDAR
VERSION:2.0
PRODID:-//Parkview Christian School - ECPv6.15.20//NONSGML v1.0//EN
CALSCALE:GREGORIAN
METHOD:PUBLISH
X-WR-CALNAME:Parkview Christian School
X-ORIGINAL-URL:https://www.parkviewchristian.com
X-WR-CALDESC:Events for Parkview Christian School
REFRESH-INTERVAL;VALUE=DURATION:PT1H
X-Robots-Tag:noindex
X-PUBLISHED-TTL:PT1H
BEGIN:VTIMEZONE
TZID:UTC
BEGIN:STANDARD
TZOFFSETFROM:+0000
TZOFFSETTO:+0000
TZNAME:UTC
DTSTART:20200101T000000
END:STANDARD
END:VTIMEZONE
BEGIN:VEVENT
DTSTART;VALUE=DATE:20210930
DTEND;VALUE=DATE:20211001
DTSTAMP:20260423T101443
CREATED:20210828T220102Z
LAST-MODIFIED:20210828T220102Z
UID:1556-1632960000-1633046399@www.parkviewchristian.com
SUMMARY:Spiritwear Day
DESCRIPTION:
URL:https://www.parkviewchristian.com/event/spiritwear-day/
END:VEVENT
END:VCALENDAR