




BEGIN:VCALENDAR
VERSION:2.0
PRODID:-//Parkview Christian School - ECPv6.15.20//NONSGML v1.0//EN
CALSCALE:GREGORIAN
METHOD:PUBLISH
X-ORIGINAL-URL:https://www.parkviewchristian.com
X-WR-CALDESC:Events for Parkview Christian School
REFRESH-INTERVAL;VALUE=DURATION:PT1H
X-Robots-Tag:noindex
X-PUBLISHED-TTL:PT1H
BEGIN:VTIMEZONE
TZID:UTC
BEGIN:STANDARD
TZOFFSETFROM:+0000
TZOFFSETTO:+0000
TZNAME:UTC
DTSTART:20210101T000000
END:STANDARD
END:VTIMEZONE
BEGIN:VEVENT
DTSTART;TZID=UTC:20220128T080000
DTEND;TZID=UTC:20220225T170000
DTSTAMP:20260421T120616
CREATED:20220128T232235Z
LAST-MODIFIED:20220128T232235Z
UID:1589-1643356800-1645808400@www.parkviewchristian.com
SUMMARY:Re-enrollment Begins
DESCRIPTION:
URL:https://www.parkviewchristian.com/event/re-enrollment-begins/
END:VEVENT
END:VCALENDAR